BEGIN:VCALENDAR
PRODID:-//kirchenweb.ch gmbh//veranstaltungsausgabe v2.0//DE
VERSION:2.0
METHOD:PUBLISH
BEGIN:VEVENT
DTSTART:20230905T100000Z
DTEND:20230905T120000Z
LOCATION:Kath. Kirche\, Reutlingerstrasse 52\, 8472 Seuzach
TRANSP:OPAQUE
SEQUENCE:0
UID:12683-veranstaltung@reformiert-seuzach-thurtal.ch
DTSTAMP:20230829T095832Z
DESCRIPTION:Und das gibt es heute als
  https://www.reformiert-seuzach-thurtal.ch/dok/986\nSalat\nZitronenpoulet
  mit Ratatouille und Cous-cous\nSchoggimousse\n\nKontakt:
  cornelia.sprenger@ref-st.ch\n\nWeitere Infos:
  https://www.reformiert-seuzach-thurtal.ch/veranstaltung/12683
SUMMARY:Zäme Ässe - ökumenischer Mittagstisch Seuzach
PRIORITY:5
X-MICROSOFT-CDO-IMPORTANCE:1
CLASS:PUBLIC
END:VEVENT
END:VCALENDAR
