BEGIN:VCALENDAR
PRODID:-//kirchenweb.ch gmbh//veranstaltungsausgabe v2.0//DE
VERSION:2.0
METHOD:PUBLISH
BEGIN:VEVENT
DTSTART:20230917T073000Z
DTEND:20230917T083000Z
LOCATION:Ref. Kirche\, Austrasse 7\, 8545 Rickenbach
TRANSP:OPAQUE
SEQUENCE:0
UID:12863-veranstaltung@reformiert-seuzach-thurtal.ch
DTSTAMP:20230906T193232Z
DESCRIPTION:Am 17. September laden wir Sie zusammen mit dem Sanctus Cantus
  zum traditionellen Bettags-Gottesdienst mit Abendmahl in der reformierten
  Kirche Rickenbach ein. \n\nAuf die gemeinsame Feier freuen sich: Eric
  Janokovsky\, neuer katholischer Gemeindeleiter\, Isabelle Schär\,
  reformierte Pfarrerin\, und Team.\n\nBeim anschliessenden Apéro stossen
  wir mit Eric Jankovsky an und heissen ihn in unserer Ökumene willkommen.
 \n\n\nKontakt: Pfrn. Isabelle Schär\n\nWeitere Infos:
  https://www.reformiert-seuzach-thurtal.ch/veranstaltung/12863
SUMMARY:Rickenbach: ökumenischer Bettagsgottesdienst mit Chor Cantus
  Sanctus und Abendmahl
PRIORITY:5
X-MICROSOFT-CDO-IMPORTANCE:1
CLASS:PUBLIC
END:VEVENT
END:VCALENDAR
