BEGIN:VCALENDAR
PRODID:-//kirchenweb.ch gmbh//veranstaltungsausgabe v2.0//DE
VERSION:2.0
METHOD:PUBLISH
BEGIN:VEVENT
DTSTART:20230919T120000Z
DTEND:20230919T130000Z
LOCATION:Kath. Kirche\, Reutlingerstrasse 52\, 8472 Seuzach
TRANSP:OPAQUE
SEQUENCE:0
UID:13252-veranstaltung@reformiert-seuzach-thurtal.ch
DTSTAMP:20230516T113735Z
DESCRIPTION:Miteinander ins Gespräch kommen\, dazu Kaffee/Tee und ein
  feines Stück Torte\, Cake oder ein anderes Dessert geniessen. \n
 \nAusserdem besteht für Spielfreudige die Möglichkeit\, zwischendurch
  ein Spiel zu spielen (verschiedene Gesellschaftsspiele liegen auf).\n
 \nHerzlich lädt ein\, das Kafiträff-Team\nE. Hablützel und Team\n\n\n\n
 \n\nKontakt: Esther Hablützel\n\nWeitere Infos:
  https://www.reformiert-seuzach-thurtal.ch/veranstaltung/13252
SUMMARY:Kafiträff Seuzach
PRIORITY:5
X-MICROSOFT-CDO-IMPORTANCE:1
CLASS:PUBLIC
END:VEVENT
END:VCALENDAR
