BEGIN:VCALENDAR
PRODID:-//kirchenweb.ch gmbh//veranstaltungsausgabe v2.0//DE
VERSION:2.0
METHOD:PUBLISH
BEGIN:VEVENT
DTSTART:20230903T083000Z
DTEND:20230903T093000Z
LOCATION:Ref. Kirche\, Chileweg\, 8474 Dinhard
TRANSP:OPAQUE
SEQUENCE:0
UID:13401-veranstaltung@reformiert-seuzach-thurtal.ch
DTSTAMP:20230927T175301Z
DESCRIPTION:Auch in diesem Jahr laden wir herzlich ein zum
  Familiengottesdienst am Gurisee.\n\nGottesdienstgestaltung:\nPfarrer
  Jürgen Terdenge\nMusik: Heilsarmee\nMitwirkung des CEVI\, anschliessend
  Kinderprogramm\nTaufe Elias Schoch\n\nNach dem Gottesdienst gibt’s
  Grillwürste\, Käse\, Brot und Getränke\, offeriert von der
  Kirchgemeinde. Für die Kaffeerunde nehmen wir gerne Ihre Kuchenspenden
  entgegen. Herzlichen Dank.\n\nFür alle Kinder organisiert die
  CEVI-Jugendgruppe spannende Spiele.\n\nOrganisatorische Hinweise:\nÜber
  Ihre Mithilfe bei der Organisation der Infrastruktur würden wir uns
  freuen. Bitte melden Sie sich dazu bei Alfred Lindenmann unter
  alfred@lindenmann.net oder Tel: 079 236 70 33.\nBei ungünstiger
  Witterung finden Gottesdienst und Zmittag auf dem Hof „Im Buck“ von
  Heinz Blatter statt.\nAuf unserer Website www.ref-st.ch können Sie
  spätestens am Sonntagmorgen ab ca. 8 Uhr den Ort der Durchführung
  erfahren.\nDas Gebiet um den Gurisee steht unter Naturschutz. Lassen Sie
  bitte das Auto am Bahnhof stehen\, kommen Sie zu Fuss oder mit dem Velo.
  Wenn Sie abgeholt werden möchten\, wenden Sie sich bitte an Frau Susanne
  Monsch\, Tel. 079 708 15 04.\n\nKontakt: Pfr. Jürgen Terdenge\n\nWeitere
  Infos: https://www.reformiert-seuzach-thurtal.ch/veranstaltung/13401
SUMMARY:Waldgottesdienst für Familien am Gurisee Dinhard
PRIORITY:5
X-MICROSOFT-CDO-IMPORTANCE:1
CLASS:PUBLIC
END:VEVENT
END:VCALENDAR
