BEGIN:VCALENDAR
PRODID:-//kirchenweb.ch gmbh//veranstaltungsausgabe v2.0//DE
VERSION:2.0
METHOD:PUBLISH
BEGIN:VEVENT
DTSTART:20230917T073000Z
DTEND:20230917T083000Z
LOCATION:Ref. Kirche\, Chileweg\, 8474 Dinhard
TRANSP:OPAQUE
SEQUENCE:0
UID:13404-veranstaltung@reformiert-seuzach-thurtal.ch
DTSTAMP:20230913T125708Z
DESCRIPTION:Mit Apéro der Trachtengruppe und Abendmahl\, Verteilung von
  Grusskarten & Blumen an die ältesten Dinerter.\n\nKontakt: Pfr. Jürgen
  Terdenge\n\nWeitere Infos:
  https://www.reformiert-seuzach-thurtal.ch/veranstaltung/13404
SUMMARY:Bettagsgottesdienst Dinhard mit Abendmahl
PRIORITY:5
X-MICROSOFT-CDO-IMPORTANCE:1
CLASS:PUBLIC
END:VEVENT
END:VCALENDAR
