BEGIN:VCALENDAR
PRODID:-//kirchenweb.ch gmbh//veranstaltungsausgabe v2.0//DE
VERSION:2.0
METHOD:PUBLISH
BEGIN:VEVENT
DTSTART:20230903T073000Z
DTEND:20230903T083000Z
LOCATION:Ref. Kirche\, Kirchrain 7a\, 8479 Altikon
TRANSP:OPAQUE
SEQUENCE:0
UID:13503-veranstaltung@reformiert-seuzach-thurtal.ch
DTSTAMP:20230714T084046Z
DESCRIPTION:Gottesdienst Altikon | Chilekaffi Light\n\nKontakt: Pfr.
  Christoph T. Waldmeier\n\nWeitere Infos:
  https://www.reformiert-seuzach-thurtal.ch/veranstaltung/13503
SUMMARY:Gottesdienst Altikon
PRIORITY:5
X-MICROSOFT-CDO-IMPORTANCE:1
CLASS:PUBLIC
END:VEVENT
END:VCALENDAR
