BEGIN:VCALENDAR
PRODID:-//kirchenweb.ch gmbh//veranstaltungsausgabe v2.0//DE
VERSION:2.0
METHOD:PUBLISH
BEGIN:VEVENT
DTSTART:20230906T063000Z
DTEND:20230906T073000Z
LOCATION:Ref. Kirche\, Kirchhügelstrasse\, 8472 Seuzach
TRANSP:OPAQUE
SEQUENCE:0
UID:13861-veranstaltung@reformiert-seuzach-thurtal.ch
DTSTAMP:20230627T095016Z
DESCRIPTION:Kontakt: Tobias Kupferschmid\n\nWeitere Infos:
  https://www.reformiert-seuzach-thurtal.ch/veranstaltung/13861
SUMMARY:Mittwochgebet Seuzach
PRIORITY:5
X-MICROSOFT-CDO-IMPORTANCE:1
CLASS:PUBLIC
END:VEVENT
END:VCALENDAR
