BEGIN:VCALENDAR
PRODID:-//kirchenweb.ch gmbh//veranstaltungsausgabe v2.0//DE
VERSION:2.0
METHOD:PUBLISH
BEGIN:VEVENT
DTSTART:20230901T080000Z
DTEND:20230901T090000Z
LOCATION:Pfarreisaal St. Josef Sulz\, Stationsstrasse 20\, 8545 Rickenbach
  Sulz
TRANSP:OPAQUE
SEQUENCE:0
UID:13941-veranstaltung@reformiert-seuzach-thurtal.ch
DTSTAMP:20230119T133213Z
DESCRIPTION:An einem Freitag in jedem Monat kommen wir um 10.00 Uhr im
  kath. Pfarreisaal  in Sulz zur gemeinsamen Andacht zusammen. \n\nMit
  Abendmahl\n\nKontakt: Pfr. Walter Wickihalder\n\nWeitere Infos:
  https://www.reformiert-seuzach-thurtal.ch/veranstaltung/13941
SUMMARY:Oekumenische Andacht Rickenbach
PRIORITY:5
X-MICROSOFT-CDO-IMPORTANCE:1
CLASS:PUBLIC
END:VEVENT
END:VCALENDAR
