BEGIN:VCALENDAR
PRODID:-//kirchenweb.ch gmbh//veranstaltungsausgabe v2.0//DE
VERSION:2.0
METHOD:PUBLISH
BEGIN:VEVENT
DTSTART:20230831T070000Z
DTEND:20230831T090000Z
LOCATION:Gemeindestube UG KGH\, Stationsstr. 34\, 8472 Seuzach
TRANSP:OPAQUE
SEQUENCE:0
UID:14000-veranstaltung@reformiert-seuzach-thurtal.ch
DTSTAMP:20230714T083820Z
DESCRIPTION:Thema: Warum reden wir so oft aneinander vorbei?\nmit Rudolf
  Steiger\, Herrliberg\n\nhttps://www.reformiert-seuzach-thurtal.ch/dok/974
 \n\nKontakt: Monika Fritschi\n\nWeitere Infos:
  https://www.reformiert-seuzach-thurtal.ch/veranstaltung/14000
SUMMARY:Frauezmorge Seuzach
PRIORITY:5
X-MICROSOFT-CDO-IMPORTANCE:1
CLASS:PUBLIC
END:VEVENT
END:VCALENDAR
