BEGIN:VCALENDAR
PRODID:-//kirchenweb.ch gmbh//veranstaltungsausgabe v2.0//DE
VERSION:2.0
METHOD:PUBLISH
BEGIN:VEVENT
DTSTART:20230827T151500Z
DTEND:20230827T161500Z
LOCATION:Ref. Kirche\, Austrasse 7\, 8545 Rickenbach
TRANSP:OPAQUE
SEQUENCE:0
UID:14469-veranstaltung@reformiert-seuzach-thurtal.ch
DTSTAMP:20230714T100050Z
DESCRIPTION:Um die Not der Welt nicht einfach schweigend hinzunehmen\, und
  um dem Leid in dieser Welt etwas entgegen zu halten\, gibt es neu in
  unserem Dorf alle zwei Monate ein offenes\, überkonfessionelles
  Friedensgebet. Es findet jeweils am Sonntag um 17.15 Uhr in der
  reformierten Kirche Rickenbach statt. Eingeladen sind Menschen\, die sich
  nach Frieden sehnen und dem Frieden Gottes Raum geben möchten. Zuerst im
  eigenen Herz und dann in der Fürbitte für die ganze Welt.\n
 \nhttps://www.reformiert-seuzach-thurtal.ch/dok/934\n\nKontakt: Monika
  Garcia\n\nWeitere Infos:
  https://www.reformiert-seuzach-thurtal.ch/veranstaltung/14469
SUMMARY:ökumenisches Friedensgebet
PRIORITY:5
X-MICROSOFT-CDO-IMPORTANCE:1
CLASS:PUBLIC
END:VEVENT
END:VCALENDAR
