BEGIN:VCALENDAR
PRODID:-//kirchenweb.ch gmbh//veranstaltungsausgabe v2.0//DE
VERSION:2.0
METHOD:PUBLISH
BEGIN:VEVENT
DTSTART:20230916T180000Z
DTEND:20230916T200000Z
LOCATION:Waldhütte Ellikon an der Thur\, \,
TRANSP:OPAQUE
SEQUENCE:0
UID:14531-veranstaltung@reformiert-seuzach-thurtal.ch
DTSTAMP:20230811T083944Z
DESCRIPTION:In der gemütlichen Waldhütte in Ellikon an der Thur zünden
  wir ein Feuer an - keine Angst\, nur dort wo die Feuerstelle ist. Es gibt
  einen kurzen Input zum Thema "Was hat Feuer mit Gott zu tun". Danach kann
  gebrätelt werden (Grillgut bitte selbst mitnehmen). Getränke sind
  vorhanden. Für den Rest des Abends steht die Geselligkeit im Zentrum.
  Ein gmögiger Abend für Männer. \n\nLageplan Waldhütte (Waldstück
  zwischen Rickenbach und Ellikon)\n\n\n\n\n\nKontakt: Tobias Kupferschmid
 \n\nWeitere Infos:
  https://www.reformiert-seuzach-thurtal.ch/veranstaltung/14531
SUMMARY:Typisch Mann - Feuerabend
PRIORITY:5
X-MICROSOFT-CDO-IMPORTANCE:1
CLASS:PUBLIC
END:VEVENT
END:VCALENDAR
