BEGIN:VCALENDAR
PRODID:-//kirchenweb.ch gmbh//veranstaltungsausgabe v2.0//DE
VERSION:2.0
METHOD:PUBLISH
BEGIN:VEVENT
DTSTART:20230903T090000Z
DTEND:20230903T100000Z
LOCATION:Ref. Kirche\, Kirchhügelstrasse\, 8472 Seuzach
TRANSP:OPAQUE
SEQUENCE:0
UID:14885-veranstaltung@reformiert-seuzach-thurtal.ch
DTSTAMP:20230831T193537Z
DESCRIPTION:Chilekafi vor dem Gottesdienst um 10 Uhr\n\nKontakt: Pfrn.
  Isabelle Schär\n\nWeitere Infos:
  https://www.reformiert-seuzach-thurtal.ch/veranstaltung/14885
SUMMARY:Gottesdienst Seuzach
PRIORITY:5
X-MICROSOFT-CDO-IMPORTANCE:1
CLASS:PUBLIC
END:VEVENT
END:VCALENDAR
