BEGIN:VCALENDAR
PRODID:-//kirchenweb.ch gmbh//veranstaltungsausgabe v2.0//DE
VERSION:2.0
METHOD:PUBLISH
BEGIN:VEVENT
DTSTART:20230914T120000Z
DTEND:20230914T130000Z
LOCATION:Restaurant Chrebsbach\, \,  Seuzach
TRANSP:OPAQUE
SEQUENCE:0
UID:15327-veranstaltung@reformiert-seuzach-thurtal.ch
DTSTAMP:20230411T074736Z
DESCRIPTION:Gespielt wird der einfache Schieber auf 157 mit 4 Passen à 12
  Spiele (1 Passe als Streichresultat). Einsatz Fr. 15.- (80% des Einsatzes
  geht als Preis an die Teilnehmer zurück).\n\nJedermann/frau ist herzlich
  willkommen. Es ist keine Voranmeldlung nötig.\n\nAuskunft erteilt Ihnen
  Jürg Schneider\, Tel. 079 420 70 67\n\nPro Senectute\n\nKontakt: Jürg
  Schneider\, 079 420 70 67\n\nWeitere Infos:
  https://www.reformiert-seuzach-thurtal.ch/veranstaltung/15327
SUMMARY:Seuzemer Jassnachmittag
PRIORITY:5
X-MICROSOFT-CDO-IMPORTANCE:1
CLASS:PUBLIC
END:VEVENT
END:VCALENDAR
