BEGIN:VCALENDAR
PRODID:-//kirchenweb.ch gmbh//veranstaltungsausgabe v2.0//DE
VERSION:2.0
METHOD:PUBLISH
BEGIN:VEVENT
DTSTART:20230915T133000Z
DTEND:20230915T163000Z
LOCATION:Saal Kirchgemeindehaus Parterre\, Austrasse 7\, 8545 Rickenbach
TRANSP:OPAQUE
SEQUENCE:0
UID:15458-veranstaltung@reformiert-seuzach-thurtal.ch
DTSTAMP:20230606T080548Z
DESCRIPTION:Kontakt: Christine Schnyder\n\nWeitere Infos:
  https://www.reformiert-seuzach-thurtal.ch/veranstaltung/15458
SUMMARY:Club4 Rickenbach
PRIORITY:5
X-MICROSOFT-CDO-IMPORTANCE:1
CLASS:PUBLIC
END:VEVENT
END:VCALENDAR
