BEGIN:VCALENDAR
PRODID:-//kirchenweb.ch gmbh//veranstaltungsausgabe v2.0//DE
VERSION:2.0
METHOD:PUBLISH
BEGIN:VEVENT
DTSTART:20230902T110000Z
DTEND:20230902T120000Z
LOCATION:Badi (Schwimmbad Weiher)\, \,  Seuzach
TRANSP:OPAQUE
SEQUENCE:0
UID:15573-veranstaltung@reformiert-seuzach-thurtal.ch
DTSTAMP:20230901T080729Z
DESCRIPTION:CHILL & GRILL.\nWann? Samstag 2. Sept. um 13:00h\nWo? Badi
  Seuzach (Schwimmbad Weiher)\, vor dem Eingang\nEintritt? bezahlt die
  Kirche\nMitbringen? etwas zum Grillieren und zum Trinken\, Badesachen
 \nProgramm? Chillen & Gemeinschaftsspiele & Vision der YOUNG COMMUNITY\n
 \nDeine YOUNG COMMUNITY freut sich\n\nKontakt: Dan Schmid\n\nWeitere
  Infos: https://www.reformiert-seuzach-thurtal.ch/veranstaltung/15573
SUMMARY:Young Community - Grill and Chill
PRIORITY:5
X-MICROSOFT-CDO-IMPORTANCE:1
CLASS:PUBLIC
END:VEVENT
END:VCALENDAR
