BEGIN:VCALENDAR
PRODID:-//kirchenweb.ch gmbh//veranstaltungsausgabe v2.0//DE
VERSION:2.0
METHOD:PUBLISH
BEGIN:VEVENT
DTSTART:20230915T132500Z
DTEND:20230915T145500Z
LOCATION:Gemeindestube UG KGH\, Stationsstr. 34\, 8472 Seuzach
TRANSP:OPAQUE
SEQUENCE:0
UID:15589-veranstaltung@reformiert-seuzach-thurtal.ch
DTSTAMP:20230714T090954Z
DESCRIPTION:Kontakt: Jenny Horath\n\nWeitere Infos:
  https://www.reformiert-seuzach-thurtal.ch/veranstaltung/15589
SUMMARY:3. Klass-Unti - Gruppe Tiger
PRIORITY:5
X-MICROSOFT-CDO-IMPORTANCE:1
CLASS:PUBLIC
END:VEVENT
END:VCALENDAR
