BEGIN:VCALENDAR
PRODID:-//kirchenweb.ch gmbh//veranstaltungsausgabe v2.0//DE
VERSION:2.0
METHOD:PUBLISH
BEGIN:VEVENT
DTSTART:20230916T070000Z
DTEND:20230916T100000Z
LOCATION:Gemeindestube UG KGH\, Stationsstr. 34\, 8472 Seuzach
TRANSP:OPAQUE
SEQUENCE:0
UID:15599-veranstaltung@reformiert-seuzach-thurtal.ch
DTSTAMP:20230620T061718Z
DESCRIPTION:Kontakt: Jenny Horath\n\nWeitere Infos:
  https://www.reformiert-seuzach-thurtal.ch/veranstaltung/15599
SUMMARY:3. Klass-Unti - Gruppe Löwe
PRIORITY:5
X-MICROSOFT-CDO-IMPORTANCE:1
CLASS:PUBLIC
END:VEVENT
END:VCALENDAR
