BEGIN:VCALENDAR
PRODID:-//kirchenweb.ch gmbh//veranstaltungsausgabe v2.0//DE
VERSION:2.0
METHOD:PUBLISH
BEGIN:VEVENT
DTSTART:20230916T070000Z
DTEND:20230916T100000Z
LOCATION:Begegnungsraum\, Kirchrain 6\, 8479 Altikon
TRANSP:OPAQUE
SEQUENCE:0
UID:15694-veranstaltung@reformiert-seuzach-thurtal.ch
DTSTAMP:20230625T122251Z
DESCRIPTION:ATE_Konfweg_05: Konf for Future – Mein Konfjahr – meine
  Überzeugungen – mein Glaube – meine Möglichkeiten – meine Zukunft
 \n\nKontakt: Pfr. Christoph T. Waldmeier\n\nWeitere Infos:
  https://www.reformiert-seuzach-thurtal.ch/veranstaltung/15694
SUMMARY:ATE_Konfweg_05: Konf for Future – Mein Konfjahr – meine
  Überzeugungen – mein Glaube – meine Möglichkeiten – meine Zukunft
PRIORITY:5
X-MICROSOFT-CDO-IMPORTANCE:1
CLASS:PUBLIC
END:VEVENT
END:VCALENDAR
