BEGIN:VCALENDAR
PRODID:-//kirchenweb.ch gmbh//veranstaltungsausgabe v2.0//DE
VERSION:2.0
METHOD:PUBLISH
BEGIN:VEVENT
DTSTART:20230914T163000Z
DTEND:20230914T180000Z
LOCATION:Gemeindestube UG KGH\, Stationsstr. 34\, 8472 Seuzach
TRANSP:OPAQUE
SEQUENCE:0
UID:15714-veranstaltung@reformiert-seuzach-thurtal.ch
DTSTAMP:20230628T122924Z
DESCRIPTION:Kontakt: Pfr. Rolf Meister\n\nWeitere Infos:
  https://www.reformiert-seuzach-thurtal.ch/veranstaltung/15714
SUMMARY:Konf-Unterricht
PRIORITY:5
X-MICROSOFT-CDO-IMPORTANCE:1
CLASS:PUBLIC
END:VEVENT
END:VCALENDAR
