BEGIN:VCALENDAR
PRODID:-//kirchenweb.ch gmbh//veranstaltungsausgabe v2.0//DE
VERSION:2.0
METHOD:PUBLISH
BEGIN:VEVENT
DTSTART:20230831T073000Z
DTEND:20230831T090000Z
LOCATION:Begegnungsraum\, Kirchrain 6\, 8479 Altikon
TRANSP:OPAQUE
SEQUENCE:0
UID:15729-veranstaltung@reformiert-seuzach-thurtal.ch
DTSTAMP:20230629T085954Z
DESCRIPTION:Herbst: 	in einem Thalheimer Garten\nWinter: 	Begegnungsraum
  Altikon\n\n\nInformationen zur konkreten Durchführung erhalten Sie bei
  Angela Dürr\, Tel. 079/ 772 86 08\n\nKontakt: Angela Dürr Tel. 079/ 772
  86 08\n\nWeitere Infos:
  https://www.reformiert-seuzach-thurtal.ch/veranstaltung/15729
SUMMARY:Eltern-Kind-Singen Altikon-Thalheim-Ellikon
PRIORITY:5
X-MICROSOFT-CDO-IMPORTANCE:1
CLASS:PUBLIC
END:VEVENT
END:VCALENDAR
