BEGIN:VCALENDAR
PRODID:-//kirchenweb.ch gmbh//veranstaltungsausgabe v2.0//DE
VERSION:2.0
METHOD:PUBLISH
BEGIN:VEVENT
DTSTART:20230904T150000Z
DTEND:20230904T170000Z
LOCATION:Petronellakeller\, Chileweg 1\, 8474 Dinhard
TRANSP:OPAQUE
SEQUENCE:0
UID:15879-veranstaltung@reformiert-seuzach-thurtal.ch
DTSTAMP:20230630T123855Z
DESCRIPTION:Kontakt: Michel Vallat\n\nWeitere Infos:
  https://www.reformiert-seuzach-thurtal.ch/veranstaltung/15879
SUMMARY:Club 4 Dinhard
PRIORITY:5
X-MICROSOFT-CDO-IMPORTANCE:1
CLASS:PUBLIC
END:VEVENT
END:VCALENDAR
