BEGIN:VCALENDAR
PRODID:-//kirchenweb.ch gmbh//veranstaltungsausgabe v2.0//DE
VERSION:2.0
METHOD:PUBLISH
BEGIN:VEVENT
DTSTART:20230914T133000Z
DTEND:20230914T150000Z
LOCATION:Pfarrhaustreff\, Kirchgasse 17\, 8472 Seuzach
TRANSP:OPAQUE
SEQUENCE:0
UID:15884-veranstaltung@reformiert-seuzach-thurtal.ch
DTSTAMP:20230911T085726Z
DESCRIPTION:Kontakt: Michel Vallat\n\nWeitere Infos:
  https://www.reformiert-seuzach-thurtal.ch/veranstaltung/15884
SUMMARY:Club 4 Seuzach 2
PRIORITY:5
X-MICROSOFT-CDO-IMPORTANCE:1
CLASS:PUBLIC
END:VEVENT
END:VCALENDAR
