BEGIN:VCALENDAR
PRODID:-//kirchenweb.ch gmbh//veranstaltungsausgabe v2.0//DE
VERSION:2.0
METHOD:PUBLISH
BEGIN:VEVENT
DTSTART:20230829T150000Z
DTEND:20230829T163000Z
LOCATION:Petronellakeller\, Chileweg 1\, 8474 Dinhard
TRANSP:OPAQUE
SEQUENCE:0
UID:15994-veranstaltung@reformiert-seuzach-thurtal.ch
DTSTAMP:20230810T142248Z
DESCRIPTION:Pfarrer Jürgen Terdenge lädt ein zu Kaffee und Guetzli im
  Petronellakeller unter dem Pfarrhaus Dinhard. Sie können mit oder ohne
  Anliegen mit ihm ins Gespräch kommen oder auch als Gruppe miteinander
  einen Café-Besuch in Kirch-Dinhard machen. Herzliche Einladung!\n
 \nKontakt: juergen.terdenge@ref-st.ch\n\nWeitere Infos:
  https://www.reformiert-seuzach-thurtal.ch/veranstaltung/15994
SUMMARY:Café Petronella
PRIORITY:5
X-MICROSOFT-CDO-IMPORTANCE:1
CLASS:PUBLIC
END:VEVENT
END:VCALENDAR
