BEGIN:VCALENDAR
PRODID:-//kirchenweb.ch gmbh//veranstaltungsausgabe v2.0//DE
VERSION:2.0
METHOD:PUBLISH
BEGIN:VEVENT
DTSTART:20230830T060000Z
DTEND:20230830T150000Z
LOCATION:auswärts\, \,
TRANSP:OPAQUE
SEQUENCE:0
UID:15995-veranstaltung@reformiert-seuzach-thurtal.ch
DTSTAMP:20230911T130230Z
DESCRIPTION:Dinerter Industriegeschichte und ihre Spuren in die Gegenwart
 \nVon Seuzach aus wandern wir zum Gurisee\, wo uns Werner Schmid\,
  Verfasser der Dinerter Chronik\, erwarten wird. Er wird uns im Verlaufe
  der Wanderung zu einigen ehemaligen «Industrie- und Handwerksstätten»
  führen und uns u.a. über den Torfabbau\, das Mosten\, das
  Wagnerhandwerk\, die Ziegelherstellung\, sowie den Kiesabbau und ihren
  Spuren bis in die Gegenwart berichten. Zu Mittag essen werden wir im
  Pulverturm in Kirch-Dinhard. Nach dem gemütlichen Ausklang geht’s
  entweder mit dem Bus ab Ausser-Dinhard oder zu Fuss via Tannenhof zurück
  nach Seuzach.\n\nProgramm\n08.00	Besammlung beim Rösslipark Seuzach
 \n08.10 	Wanderung via Heimenstein zum Gurisee ob Dinhard\n09.30	Stärkung
  aus dem Rucksack\n10.00	Begrüssung durch Werner Schmid und Wanderung
  nach Kirch-Dinhard\n12.30	Mittagessen im Pulverturm\n14.30	Geschichte des
  Pulverturms\, der Riedmühle und der Kiesgruben\n16.51	(ev. 15.51)
  Rückfahrt mit dem Bus 612 ab Gemeindehaus (10’ bis Haltestelle)
 \n		oder	Rückwanderung (1¼ Std. bis Seuzach)\n\nWeitere Infos:
 \n•	Leichte Wanderung\, gute Laufschuhe genügen.\n•	Wanderzeit: ca. 2
  oder 3¼ Std.\n•	Mittagessen: Fleisch oder Vegi (bei der Anmeldung
  angeben) Kosten Fr. 20.--					\n\nKontakt: Liliana und Werner Baumann 079
  610 14 81\n\nWeitere Infos:
  https://www.reformiert-seuzach-thurtal.ch/veranstaltung/15995
SUMMARY:Wandern und Kultur
PRIORITY:5
X-MICROSOFT-CDO-IMPORTANCE:1
CLASS:PUBLIC
END:VEVENT
END:VCALENDAR
