BEGIN:VCALENDAR
PRODID:-//kirchenweb.ch gmbh//veranstaltungsausgabe v2.0//DE
VERSION:2.0
METHOD:PUBLISH
BEGIN:VEVENT
DTSTART:20230916T070000Z
DTEND:20230916T100000Z
LOCATION:Saal Kirchgemeindehaus Parterre\, Austrasse 7\, 8545 Rickenbach
TRANSP:OPAQUE
SEQUENCE:0
UID:16217-veranstaltung@reformiert-seuzach-thurtal.ch
DTSTAMP:20230731T155157Z
DESCRIPTION:Kontakt: Katharina Peter-Schoen und \nEsther Morf\n\nWeitere
  Infos: https://www.reformiert-seuzach-thurtal.ch/veranstaltung/16217
SUMMARY:minichile und 3. Klass-Unti Rickenbach
PRIORITY:5
X-MICROSOFT-CDO-IMPORTANCE:1
CLASS:PUBLIC
END:VEVENT
END:VCALENDAR
