BEGIN:VCALENDAR
PRODID:-//kirchenweb.ch gmbh//veranstaltungsausgabe v2.0//DE
VERSION:2.0
METHOD:PUBLISH
BEGIN:VEVENT
DTSTART:20230905T143000Z
DTEND:20230905T160000Z
LOCATION:Petronellakeller\, Chileweg 1\, 8474 Dinhard
TRANSP:OPAQUE
SEQUENCE:0
UID:16242-veranstaltung@reformiert-seuzach-thurtal.ch
DTSTAMP:20230904T081422Z
DESCRIPTION:Pfarrer Jürgen Terdenge lädt ein zu Kaffee und Guetzli im
  Petronellakeller unter dem Pfarrhaus Dinhard. Sie können mit oder ohne
  Anliegen mit ihm ins Gespräch kommen oder auch als Gruppe miteinander
  einen Café-Besuch in Kirch-Dinhard machen. Herzliche Einladung!\n
 \nKontakt: juergen.terdenge@ref-st.ch\n\nWeitere Infos:
  https://www.reformiert-seuzach-thurtal.ch/veranstaltung/16242
SUMMARY:Café Petronella
PRIORITY:5
X-MICROSOFT-CDO-IMPORTANCE:1
CLASS:PUBLIC
END:VEVENT
END:VCALENDAR
