BEGIN:VCALENDAR
PRODID:-//kirchenweb.ch gmbh//veranstaltungsausgabe v2.0//DE
VERSION:2.0
METHOD:PUBLISH
BEGIN:VEVENT
DTSTART:20260125T090000Z
DTEND:20260125T100000Z
LOCATION:Ref. Kirche\, Kirchhügelstrasse\, 8472 Seuzach
TRANSP:OPAQUE
SEQUENCE:0
UID:18896-veranstaltung@reformiert-seuzach-thurtal.ch
DTSTAMP:20260123T160834Z
DESCRIPTION:Chilekafi nach dem Gottesdienst im Beatusheim\n\nKontakt: Pfr.
  Jürgen Terdenge\n\nWeitere Infos:
  https://www.reformiert-seuzach-thurtal.ch/veranstaltung/18896
SUMMARY:Gemeinsamer Gottesdienst Seuzach
PRIORITY:5
X-MICROSOFT-CDO-IMPORTANCE:1
CLASS:PUBLIC
END:VEVENT
END:VCALENDAR
