BEGIN:VCALENDAR
PRODID:-//kirchenweb.ch gmbh//veranstaltungsausgabe v2.0//DE
VERSION:2.0
METHOD:PUBLISH
BEGIN:VEVENT
DTSTART:20260510T080000Z
DTEND:20260510T093000Z
LOCATION:Ref. Kirche\, Kirchrain 7a\, 8479 Altikon
TRANSP:OPAQUE
SEQUENCE:0
UID:18984-veranstaltung@reformiert-seuzach-thurtal.ch
DTSTAMP:20260113T110336Z
DESCRIPTION:Kontakt: Pfrn. Karin Marterer Palm\n\nWeitere Infos:
  https://www.reformiert-seuzach-thurtal.ch/veranstaltung/18984
SUMMARY:Konfirmation ATE
PRIORITY:5
X-MICROSOFT-CDO-IMPORTANCE:1
CLASS:PUBLIC
END:VEVENT
END:VCALENDAR
