BEGIN:VCALENDAR
PRODID:-//kirchenweb.ch gmbh//veranstaltungsausgabe v2.0//DE
VERSION:2.0
METHOD:PUBLISH
BEGIN:VEVENT
DTSTART:20260614T080000Z
DTEND:20260614T090000Z
LOCATION:Saal Zentrum Oberwis\, Birchstrasse 2b\, 8472 Seuzach
TRANSP:OPAQUE
SEQUENCE:0
UID:19787-veranstaltung@reformiert-seuzach-thurtal.ch
DTSTAMP:20251227T141909Z
DESCRIPTION:Kontakt: Pfr. Rolf Meister\n\nWeitere Infos:
  https://www.reformiert-seuzach-thurtal.ch/veranstaltung/19787
SUMMARY:Konfirmationsgottesdienst Seuzach
PRIORITY:5
X-MICROSOFT-CDO-IMPORTANCE:1
CLASS:PUBLIC
END:VEVENT
END:VCALENDAR
