BEGIN:VCALENDAR
PRODID:-//kirchenweb.ch gmbh//veranstaltungsausgabe v2.0//DE
VERSION:2.0
METHOD:PUBLISH
BEGIN:VEVENT
DTSTART:20260614T080000Z
DTEND:20260614T090000Z
LOCATION:Ref. Kirche\, Austrasse 7\, 8545 Rickenbach
TRANSP:OPAQUE
SEQUENCE:0
UID:19891-veranstaltung@reformiert-seuzach-thurtal.ch
DTSTAMP:20260205T100643Z
DESCRIPTION:Kontakt: \nPfr. Jürgen Terdenge\n\nWeitere Infos:
  https://www.reformiert-seuzach-thurtal.ch/veranstaltung/19891
SUMMARY:Konfirmations-Gottesdienst\, Rickenbach
PRIORITY:5
X-MICROSOFT-CDO-IMPORTANCE:1
CLASS:PUBLIC
END:VEVENT
END:VCALENDAR
