BEGIN:VCALENDAR
PRODID:-//kirchenweb.ch gmbh//veranstaltungsausgabe v2.0//DE
VERSION:2.0
METHOD:PUBLISH
BEGIN:VEVENT
DTSTART:20260418T073000Z
DTEND:20260418T100000Z
LOCATION:Gemeindestube UG KGH\, Stationsstr. 34\, 8472 Seuzach
TRANSP:OPAQUE
SEQUENCE:0
UID:19900-veranstaltung@reformiert-seuzach-thurtal.ch
DTSTAMP:20250610T083259Z
DESCRIPTION:Kontakt: Priska Rauber\n\nWeitere Infos:
  https://www.reformiert-seuzach-thurtal.ch/veranstaltung/19900
SUMMARY:Manne-Zmorge Seuzach
PRIORITY:5
X-MICROSOFT-CDO-IMPORTANCE:1
CLASS:PUBLIC
END:VEVENT
END:VCALENDAR
