BEGIN:VCALENDAR
PRODID:-//kirchenweb.ch gmbh//veranstaltungsausgabe v2.0//DE
VERSION:2.0
METHOD:PUBLISH
BEGIN:VEVENT
DTSTART:20260705T083000Z
DTEND:20260705T093000Z
LOCATION:Meili-Hof an der Chrüzlerstasse\, \, 8545 Rickenbach
TRANSP:OPAQUE
SEQUENCE:0
UID:20114-veranstaltung@reformiert-seuzach-thurtal.ch
DTSTAMP:20260311T142531Z
DESCRIPTION:Kontakt: Carina Russ\n\nWeitere Infos:
  https://www.reformiert-seuzach-thurtal.ch/veranstaltung/20114
SUMMARY:ökumenischer Hof-Gottesdienst Rickenbach
PRIORITY:5
X-MICROSOFT-CDO-IMPORTANCE:1
CLASS:PUBLIC
END:VEVENT
END:VCALENDAR
