BEGIN:VCALENDAR
PRODID:-//kirchenweb.ch gmbh//veranstaltungsausgabe v2.0//DE
VERSION:2.0
METHOD:PUBLISH
BEGIN:VEVENT
DTSTART:20260201T100000Z
DTEND:20260201T110000Z
LOCATION:Ref. Kirche\, Kirchrain 7a\, 8479 Altikon
TRANSP:OPAQUE
SEQUENCE:0
UID:20292-veranstaltung@reformiert-seuzach-thurtal.ch
DTSTAMP:20251212T070059Z
DESCRIPTION:Kontakt: Pfr. Roger Nünlist\n\nWeitere Infos:
  https://www.reformiert-seuzach-thurtal.ch/veranstaltung/20292
SUMMARY:Gottesdienst in Altikon
PRIORITY:5
X-MICROSOFT-CDO-IMPORTANCE:1
CLASS:PUBLIC
END:VEVENT
END:VCALENDAR
