BEGIN:VCALENDAR
PRODID:-//kirchenweb.ch gmbh//veranstaltungsausgabe v2.0//DE
VERSION:2.0
METHOD:PUBLISH
BEGIN:VEVENT
DTSTART:20260506T114500Z
DTEND:20260506T134500Z
LOCATION:Saal Kirchgemeindehaus Parterre\, Austrasse 7\, 8545 Rickenbach
TRANSP:OPAQUE
SEQUENCE:0
UID:20339-veranstaltung@reformiert-seuzach-thurtal.ch
DTSTAMP:20251104T093732Z
DESCRIPTION:Kontakt: Giusy Di Fusco\nTel. 078 627 70 22\n\nWeitere Infos:
  https://www.reformiert-seuzach-thurtal.ch/veranstaltung/20339
SUMMARY:Kolibri Rickenbach
PRIORITY:5
X-MICROSOFT-CDO-IMPORTANCE:1
CLASS:PUBLIC
END:VEVENT
END:VCALENDAR
