BEGIN:VCALENDAR
PRODID:-//kirchenweb.ch gmbh//veranstaltungsausgabe v2.0//DE
VERSION:2.0
METHOD:PUBLISH
BEGIN:VEVENT
DTSTART:20260605T173000Z
DTEND:20260605T183000Z
LOCATION:Ref. Kirche\, Kirchhügelstrasse\, 8472 Seuzach
TRANSP:OPAQUE
SEQUENCE:0
UID:20591-veranstaltung@reformiert-seuzach-thurtal.ch
DTSTAMP:20251227T141851Z
DESCRIPTION:Kontakt: Pfr. Rolf Meister\n\nWeitere Infos:
  https://www.reformiert-seuzach-thurtal.ch/veranstaltung/20591
SUMMARY:Alltagsgottesdienst Seuzach
PRIORITY:5
X-MICROSOFT-CDO-IMPORTANCE:1
CLASS:PUBLIC
END:VEVENT
END:VCALENDAR
