BEGIN:VCALENDAR
PRODID:-//kirchenweb.ch gmbh//veranstaltungsausgabe v2.0//DE
VERSION:2.0
METHOD:PUBLISH
BEGIN:VEVENT
DTSTART:20260426T080000Z
DTEND:20260426T090000Z
LOCATION:Ref. Kirche\, Kirchhügelstrasse\, 8472 Seuzach
TRANSP:OPAQUE
SEQUENCE:0
UID:20604-veranstaltung@reformiert-seuzach-thurtal.ch
DTSTAMP:20260326T105949Z
DESCRIPTION:Mit Taufen von Elias und Jonas Sutter und Eline Schüpbach.\n
 \nChilekafi nach dem Gottesdienst im Beatusheim\n\nKontakt: Pfrn. Karin
  Marterer Palm\n\nWeitere Infos:
  https://www.reformiert-seuzach-thurtal.ch/veranstaltung/20604
SUMMARY:Gemeinsamer Gottesdienst Seuzach mit Taufen
PRIORITY:5
X-MICROSOFT-CDO-IMPORTANCE:1
CLASS:PUBLIC
END:VEVENT
END:VCALENDAR
