BEGIN:VCALENDAR
PRODID:-//kirchenweb.ch gmbh//veranstaltungsausgabe v2.0//DE
VERSION:2.0
METHOD:PUBLISH
BEGIN:VEVENT
DTSTART:20260505T100000Z
DTEND:20260505T120000Z
LOCATION:Kath. Kirche\, Reutlingerstrasse 52\, 8472 Seuzach
TRANSP:OPAQUE
SEQUENCE:0
UID:20619-veranstaltung@reformiert-seuzach-thurtal.ch
DTSTAMP:20251104T145343Z
DESCRIPTION:Menu:\nSalat\nSpargelgratin mit Salzkartoffeln
 \nRhabarberstreussel\n\n\nKontakt: cornelia.sprenger@ref-st.ch\n\nWeitere
  Infos: https://www.reformiert-seuzach-thurtal.ch/veranstaltung/20619
SUMMARY:Zäme Ässe - ökumenischer Mittagstisch Seuzach
PRIORITY:5
X-MICROSOFT-CDO-IMPORTANCE:1
CLASS:PUBLIC
END:VEVENT
END:VCALENDAR
