BEGIN:VCALENDAR
PRODID:-//kirchenweb.ch gmbh//veranstaltungsausgabe v2.0//DE
VERSION:2.0
METHOD:PUBLISH
BEGIN:VEVENT
DTSTART:20260707T100000Z
DTEND:20260707T120000Z
LOCATION:Kath. Kirche\, Reutlingerstrasse 52\, 8472 Seuzach
TRANSP:OPAQUE
SEQUENCE:0
UID:20621-veranstaltung@reformiert-seuzach-thurtal.ch
DTSTAMP:20251104T145420Z
DESCRIPTION:Menu:\nMelonenvorspeise\nSommersalat al la Zäme Ässe mit
  Fleischkäse\nGlace und Früchte\n\n\nKontakt:
  cornelia.sprenger@ref-st.ch\n\nWeitere Infos:
  https://www.reformiert-seuzach-thurtal.ch/veranstaltung/20621
SUMMARY:Zäme Ässe - ökumenischer Mittagstisch Seuzach
PRIORITY:5
X-MICROSOFT-CDO-IMPORTANCE:1
CLASS:PUBLIC
END:VEVENT
END:VCALENDAR
