BEGIN:VCALENDAR
PRODID:-//kirchenweb.ch gmbh//veranstaltungsausgabe v2.0//DE
VERSION:2.0
METHOD:PUBLISH
BEGIN:VEVENT
DTSTART:20260830T073000Z
DTEND:20260830T083000Z
LOCATION:Ref. Kirche\, Kirchhügelstrasse\, 8472 Seuzach
TRANSP:OPAQUE
SEQUENCE:0
UID:20644-veranstaltung@reformiert-seuzach-thurtal.ch
DTSTAMP:20260122T163507Z
DESCRIPTION:Chilekafi nach dem Gottesdienst \n\nKontakt: Pfr. Andreas Palm
 \n\nWeitere Infos:
  https://www.reformiert-seuzach-thurtal.ch/veranstaltung/20644
SUMMARY:Gemeinsamer Gottesdienst Seuzach
PRIORITY:5
X-MICROSOFT-CDO-IMPORTANCE:1
CLASS:PUBLIC
END:VEVENT
END:VCALENDAR
