BEGIN:VCALENDAR
PRODID:-//kirchenweb.ch gmbh//veranstaltungsausgabe v2.0//DE
VERSION:2.0
METHOD:PUBLISH
BEGIN:VEVENT
DTSTART:20260802T073000Z
DTEND:20260802T083000Z
LOCATION:Rickenbach\, Austrasse\, 8545 Rickenbach
TRANSP:OPAQUE
SEQUENCE:0
UID:20709-veranstaltung@reformiert-seuzach-thurtal.ch
DTSTAMP:20260412T132907Z
DESCRIPTION:Kontakt: Nyree Heckmann\n\nWeitere Infos:
  https://www.reformiert-seuzach-thurtal.ch/veranstaltung/20709
SUMMARY:Gottesdienst Rickenbach
PRIORITY:5
X-MICROSOFT-CDO-IMPORTANCE:1
CLASS:PUBLIC
END:VEVENT
END:VCALENDAR
