BEGIN:VCALENDAR
PRODID:-//kirchenweb.ch gmbh//veranstaltungsausgabe v2.0//DE
VERSION:2.0
METHOD:PUBLISH
BEGIN:VEVENT
DTSTART:20260816T073000Z
DTEND:20260816T083000Z
LOCATION:Rickenbach\, Austrasse\, 8545 Rickenbach
TRANSP:OPAQUE
SEQUENCE:0
UID:20710-veranstaltung@reformiert-seuzach-thurtal.ch
DTSTAMP:20260220T090817Z
DESCRIPTION:eventuell Verabschiedung Walter Wickihalder\n\nKontakt: Pfr.
  Walter Wickihalder\n\nWeitere Infos:
  https://www.reformiert-seuzach-thurtal.ch/veranstaltung/20710
SUMMARY:Gottesdienst Rickenbach
PRIORITY:5
X-MICROSOFT-CDO-IMPORTANCE:1
CLASS:PUBLIC
END:VEVENT
END:VCALENDAR
