BEGIN:VCALENDAR
PRODID:-//kirchenweb.ch gmbh//veranstaltungsausgabe v2.0//DE
VERSION:2.0
METHOD:PUBLISH
BEGIN:VEVENT
DTSTART:20260830T083000Z
DTEND:20260830T093000Z
LOCATION:Gurisee\, \, 8474 Dinhard
TRANSP:OPAQUE
SEQUENCE:0
UID:20756-veranstaltung@reformiert-seuzach-thurtal.ch
DTSTAMP:20260311T142716Z
DESCRIPTION:Kontakt: Nyree Heckmann\n\nWeitere Infos:
  https://www.reformiert-seuzach-thurtal.ch/veranstaltung/20756
SUMMARY:Waldgottesdienst für Familien Dinhard am Gurisee
PRIORITY:5
X-MICROSOFT-CDO-IMPORTANCE:1
CLASS:PUBLIC
END:VEVENT
END:VCALENDAR
