BEGIN:VCALENDAR
PRODID:-//kirchenweb.ch gmbh//veranstaltungsausgabe v2.0//DE
VERSION:2.0
METHOD:PUBLISH
BEGIN:VEVENT
DTSTART:20260815T150000Z
DTEND:20260815T160000Z
LOCATION:Ref. Kirche\, Chileweg\, 8474 Dinhard
TRANSP:OPAQUE
SEQUENCE:0
UID:20757-veranstaltung@reformiert-seuzach-thurtal.ch
DTSTAMP:20260206T100723Z
DESCRIPTION:Kontakt: Pfr. Jürgen Terdenge\n\nWeitere Infos:
  https://www.reformiert-seuzach-thurtal.ch/veranstaltung/20757
SUMMARY:Familiengottesdienst Abschluss Sommerlager Dinhard
PRIORITY:5
X-MICROSOFT-CDO-IMPORTANCE:1
CLASS:PUBLIC
END:VEVENT
END:VCALENDAR
