BEGIN:VCALENDAR
PRODID:-//kirchenweb.ch gmbh//veranstaltungsausgabe v2.0//DE
VERSION:2.0
METHOD:PUBLISH
BEGIN:VEVENT
DTSTART:20261125T120000Z
DTEND:20261125T160000Z
LOCATION:Saal Zentrum Oberwis\, Birchstrasse 2\, 8472 Seuzach
TRANSP:OPAQUE
SEQUENCE:0
UID:20786-veranstaltung@reformiert-seuzach-thurtal.ch
DTSTAMP:20250917T092623Z
DESCRIPTION:Wir laden Sie sehr herzlich zum alljährlichen Chränzle ein\,
  und zwar am Mittwoch\, 25. November 2026 von 13:00h bis 17:00 Uhr im Saal
  vom Zentrum Oberwis. \n\nWie jedes Jahr können Sie frei (ohne Anleitung)
  Ihren Adventsschmuck herstellen. Wir stellen Ihnen diverses Grünzeug
  gratis zu Verfügung. Strohringe und verschiedenes Dekorationsmaterial
  können vor Ort gekauft werden. Mitzubringen brauchen Sie lediglich Ihre
  eigene Gartenschere. Natürlich dürfen Sie auch Ihr eigenes
  Arbeitsmaterial mitbringen. Eine Anmeldung ist nicht erforderlich. \n
 \nDamit Sie in Ruhen an Ihrem Kunstwerk arbeiten können\, ist eine
  Kinderbastelecke eingerichtet\, wo Ihre Kinder betreut werden. \n\nZum
  ersten Mal können Sie Weihnachtskerzen vom Verkaufsstand des Beatus-Heim
  Seuzach kaufen. \n\nWir vom Vorbereitungsteam freuen uns auf einen
  gemütlichen Nachmittag in geselliger Runde. \nDas Organisationsteam der
  Orskirchenkommission Seuzach\n
 \nhttps://www.reformiert-seuzach-thurtal.ch/dok/1191\n\nKontakt: Esther
  Hablützel\n\nWeitere Infos:
  https://www.reformiert-seuzach-thurtal.ch/veranstaltung/20786
SUMMARY:Chränzle Seuzach
PRIORITY:5
X-MICROSOFT-CDO-IMPORTANCE:1
CLASS:PUBLIC
END:VEVENT
END:VCALENDAR
