BEGIN:VCALENDAR
PRODID:-//kirchenweb.ch gmbh//veranstaltungsausgabe v2.0//DE
VERSION:2.0
METHOD:PUBLISH
BEGIN:VEVENT
DTSTART:20260606T150000Z
DTEND:20260606T160000Z
LOCATION:Ref. Kirche\, Chileweg\, 8474 Dinhard
TRANSP:OPAQUE
SEQUENCE:0
UID:20844-veranstaltung@reformiert-seuzach-thurtal.ch
DTSTAMP:20260409T211450Z
DESCRIPTION:Das Loewe Quartett\n\nBastian Loewe und Livia
  Loewe-Berchtold\, Violine\nJuan Carlos Escobar Ossa\, Viola\nMilena
  Marena\, Violoncello\n\nDas Loewe Quartett wurde 2020 an der Zürcher
  Hochschule der Künste gegründet und gewann 2021 den 1. Preis am Kiwanis
  Wettbewerb der ZHdK. In kurzer Zeit konnte sich das Loewe Quartett als
  junges\, vielversprechendes Schweizer Streichquartett etablieren. 2023
  gewann das Loewe Quartett den ersten Kammermusikwettbewerb Paul Juon und
  wird für einen Zeitraum von drei Jahren vom https://www.fkms.org/
  unterstützt. \n\nLivia Loewe-Berchtold und Bastian Loewe gehören zu den
  Gründungsmitgliedern des Loewe Quartetts. Seit 2023 spielt Juan Carlos
  Escobar Ossa und seit 2024 Milena Marena im Quarett.\n\nEintritt frei\,
  eine Kollekte zur Deckung der Unkosten wird durchgeführt.\n\nProgramm:
 \nGiacomo Puccini (1858-1924)\n“Crisantemi” für zwei Violinen\, Viola
  und Violoncello  (1890)\nAndante mesto\n\nJohannes Brahms\nQuartett Nr. 1
  c-moll\nStreichquartett c-Moll\, op. 51\, Nr. 1\n1. Allegro\n2. Romanze.
  Poco adagio\n3. Allegro molto moderato e comodo\n4. Allegro\n\nPaul Juon
  (1872 – 1940)\nStreichquartett Nr. 1 D-Dur op.5\n1. Satz Allegro
  moderato\n\nDie Musiker/innen\nBastian Loewe ist seit 2022 Mitglied der
  1. Violine im Musikkollegium Winterthur. Der chilenische Geiger studierte
  an der Hochschule für Musik Hanns Eisler bei Prof. Eva Christina
  Schönweiss und in Basel bei Barbara Doll. Neben seiner Tätigkeit als
  Kammermusiker tritt er auch als Solist mit verschiedenen Orchestern in
  der Schweiz und in Chile auf. Während seines Studiums lernte er seine
  Frau Livia Berchtold kennen. Gemeinsam haben sie eine Tochter und leben
  in Wil SG.\n\nLivia Loewe-Berchtold wuchs am Bodensee auf. Sie studierte
  ebenfalls in Basel bei Barbara Doll und anschliessend bei Alexander
  Sitkovetsky an der ZHdK. 2021 hat sie in Arbon eine eigene Konzertreihe
  Klassik im Schloss ins Leben gerufen. Vor einigen Jahren spielte sie
  bereits mit ihrem Trio Berchtold Piano Trio bei uns in der Kirche ein
  wunderbares Konzert. Als Zuzügerin ist sie immer wieder im
  Tonhalle-Orchester Zürich und im Musikkollegium Winterthur zu hören.
  Seit Februar ist sie Mutter einer kleinen Tochter.\n\nJuan Carlos Escobar
  Ossa\, in Kolumbien geboren\, studierte Viola und Barockviola bei José
  Luis Camisón\, Gertrud Weinmeister und Diemut Poppen an den Hochschulen
  in Medellín\, Bern und Zürich. Er war Teilnehmer der New World Symphony
  Miami\, der renommierten internationalen Sommerfestivals des Mozarteums
  Salzburg und spielt regelmässig als Zuzüger im Tonhalle-Orchester
  Zürich\, Opernhaus Zürich\, Musikkollegium Winterthur und dem Orchester
  Biel Solothurn.\n\nMilena Marena stammt aus einer Musikerfamilie und
  studierte Cello an der Musikhochschule in Basel bei Rafael Rosenfeld.
  Später schloss sie ihr Studium an der Zürcher Hochschule der Künste
  bei Thomas Grossenbacher ab. Sie erhielt zahlreiche Preise bei nationalen
  und internationalen Wettbewerben als Solistin und Kammermusikerin. Seit
  2025 hat sie eine 50%-Stelle als Solocellistin im Musikkollegium
  Winterthur.\n\nKontakt: juergen.terdenge@ref-st.ch\n\nWeitere Infos:
  https://www.reformiert-seuzach-thurtal.ch/veranstaltung/20844
SUMMARY:Musik am späten Nachmittag: Loewequartett
PRIORITY:5
X-MICROSOFT-CDO-IMPORTANCE:1
CLASS:PUBLIC
END:VEVENT
END:VCALENDAR
