BEGIN:VCALENDAR
PRODID:-//kirchenweb.ch gmbh//veranstaltungsausgabe v2.0//DE
VERSION:2.0
METHOD:PUBLISH
BEGIN:VEVENT
DTSTART:20260612T073000Z
DTEND:20260612T083000Z
LOCATION:Saal Kirchgemeindehaus Parterre\, Austrasse 7\, 8545 Rickenbach
TRANSP:OPAQUE
SEQUENCE:0
UID:20911-veranstaltung@reformiert-seuzach-thurtal.ch
DTSTAMP:20251030T091229Z
DESCRIPTION:Habt ihr Lust\, dem lustigen Papagei Niko zu zeigen\, wie ihr
  singt und musiziert? Er liebt alles\, was klingt und singt. Da aber seine
  Stimme etwas krächzig tönt\, sucht er Unterstützung. Und welches Kind
  mag schon keine Musik?\n\nIm Eltern-Kind-Singen erwarten euch
  verschiedene einfache Instrumente\, Lieder\, Värsli Bewegungsspiele und
  selbstverständlich eine grosse Portion Spass. \n\nHabt ihr Lust\, ca.
  jeden zweiten Freitag\, von 10.00-11.00 Uhr im Kirchensaal Rickenbach mit
  euren Kindern die Welt der Musik zu entdecken? Willkommen sind alle
  kleinen und grösseren Vorschulkinder in Begleitung eines Erwachsenen. \n
 \nIch freue mich riesig über jede Kinderstimme und darauf\, euch
  kennenzulernen!   \n\nÄ liebe Gruess Yardena und Niko\n\n\nKontakt:
  Yardena Furrer\, 079 658 37 69\n\nWeitere Infos:
  https://www.reformiert-seuzach-thurtal.ch/veranstaltung/20911
SUMMARY:Eltern-Kind-Singen Rickenbach
PRIORITY:5
X-MICROSOFT-CDO-IMPORTANCE:1
CLASS:PUBLIC
END:VEVENT
END:VCALENDAR
