BEGIN:VCALENDAR
PRODID:-//kirchenweb.ch gmbh//veranstaltungsausgabe v2.0//DE
VERSION:2.0
METHOD:PUBLISH
BEGIN:VEVENT
DTSTART:20260528T070000Z
DTEND:20260528T090000Z
LOCATION:Gemeindestube UG KGH\, Stationsstr. 34\, 8472 Seuzach
TRANSP:OPAQUE
SEQUENCE:0
UID:20952-veranstaltung@reformiert-seuzach-thurtal.ch
DTSTAMP:20251210T105804Z
DESCRIPTION:Büchermorgen in der Bibliothek\nDaniela Binder\, Obergass
  Bücher\, Winterthur\n\n\nKontakt: Monika Fritschi\n\nWeitere Infos:
  https://www.reformiert-seuzach-thurtal.ch/veranstaltung/20952
SUMMARY:Frauezmorge Seuzach
PRIORITY:5
X-MICROSOFT-CDO-IMPORTANCE:1
CLASS:PUBLIC
END:VEVENT
END:VCALENDAR
