BEGIN:VCALENDAR
PRODID:-//kirchenweb.ch gmbh//veranstaltungsausgabe v2.0//DE
VERSION:2.0
METHOD:PUBLISH
BEGIN:VEVENT
DTSTART:20260924T070000Z
DTEND:20260924T090000Z
LOCATION:Gruppenraum EG Kirchgemeindehaus\, Stationsstr. 34\, 8472 Seuzach
TRANSP:OPAQUE
SEQUENCE:0
UID:20956-veranstaltung@reformiert-seuzach-thurtal.ch
DTSTAMP:20251210T105642Z
DESCRIPTION:AUSFLUG – Gottlieber Hüppen\, Gottlieben\n\nKontakt: Monika
  Fritschi\n\nWeitere Infos:
  https://www.reformiert-seuzach-thurtal.ch/veranstaltung/20956
SUMMARY:Frauezmorge Seuzach
PRIORITY:5
X-MICROSOFT-CDO-IMPORTANCE:1
CLASS:PUBLIC
END:VEVENT
END:VCALENDAR
