BEGIN:VCALENDAR
PRODID:-//kirchenweb.ch gmbh//veranstaltungsausgabe v2.0//DE
VERSION:2.0
METHOD:PUBLISH
BEGIN:VEVENT
DTSTART:20261029T080000Z
DTEND:20261029T100000Z
LOCATION:Gemeindestube UG KGH\, Stationsstr. 34\, 8472 Seuzach
TRANSP:OPAQUE
SEQUENCE:0
UID:20957-veranstaltung@reformiert-seuzach-thurtal.ch
DTSTAMP:20251210T105712Z
DESCRIPTION:Mit Herz\, Hand und Himmel – Wege einer Sozialdiakonin 
 \nPriska Rauber\n\n\nKontakt: Monika Fritschi\n\nWeitere Infos:
  https://www.reformiert-seuzach-thurtal.ch/veranstaltung/20957
SUMMARY:Frauezmorge Seuzach
PRIORITY:5
X-MICROSOFT-CDO-IMPORTANCE:1
CLASS:PUBLIC
END:VEVENT
END:VCALENDAR
