BEGIN:VCALENDAR
PRODID:-//kirchenweb.ch gmbh//veranstaltungsausgabe v2.0//DE
VERSION:2.0
METHOD:PUBLISH
BEGIN:VEVENT
DTSTART:20260819T120000Z
DTEND:20260819T150000Z
LOCATION:Pausenhof der Primarschule Dinhard\, \, 8474 Dinhard
TRANSP:OPAQUE
SEQUENCE:0
UID:20968-veranstaltung@reformiert-seuzach-thurtal.ch
DTSTAMP:20260218T144234Z
DESCRIPTION:Boule für Senioren auf dem Schulhausplatz Dinhard\nBeginn:
  14.00 bis ca. 16.30 Uhr. Gemütliches lockeres Spielen in Gruppen und
  Austausch bei einem Getränk. Dieser Nachmittag wird angeboten von der
  ProSenectute Dinhard und der Seniorenkommission der Kirchgemeinde.
 \nInformationen bei Jacqueline Hohl 079 454 93 09.\n\n\n\nKontakt:
  juergen.terdenge@ref-st.ch\n\nWeitere Infos:
  https://www.reformiert-seuzach-thurtal.ch/veranstaltung/20968
SUMMARY:Boule-Nachmittag Dinhard beim Schulhaus
PRIORITY:5
X-MICROSOFT-CDO-IMPORTANCE:1
CLASS:PUBLIC
END:VEVENT
END:VCALENDAR
